BEGIN:VCALENDAR
VERSION:2.0
PRODID:-//Fit - ECPv5.14.1//NONSGML v1.0//EN
CALSCALE:GREGORIAN
METHOD:PUBLISH
X-WR-CALNAME:Fit
X-ORIGINAL-URL:https://lfapportal.lifefitness.com.hk
X-WR-CALDESC:Events for Fit
REFRESH-INTERVAL;VALUE=DURATION:PT1H
X-Robots-Tag:noindex
X-PUBLISHED-TTL:PT1H
BEGIN:VTIMEZONE
TZID:Asia/Hong_Kong
BEGIN:STANDARD
TZOFFSETFROM:+0800
TZOFFSETTO:+0800
TZNAME:HKT
DTSTART:20260101T000000
END:STANDARD
END:VTIMEZONE
BEGIN:VEVENT
DTSTART;TZID=Asia/Hong_Kong:20260422T100000
DTEND;TZID=Asia/Hong_Kong:20260422T100000
DTSTAMP:20260421T143305
CREATED:20260420T070523Z
LAST-MODIFIED:20260420T070523Z
UID:31016-1776852000-1776852000@lfapportal.lifefitness.com.hk
SUMMARY:Atmos Treadmill
DESCRIPTION:Channel: LFAPAC\, LFHK \nPlatform: Facebook \nPost Content: \nEssential cardio. Designed to fit. \nOur all new Atmos cardio series was built for hotel fitness centers and apartment gyms where every square foot matters. \nThe Atmos Treadmill delivers:\n✔ Smooth\, proven Life Fitness performance\n✔ Compact footprint design\n✔ Simplified service access\n✔ A polished\, brand-aligned aesthetic \nExplore the full Atmos line:🔗 https://www.lifefitness.com/zh-hk/catalog/cardio/treadmills/atmos-treadmill?utm_source=facebook&utm_medium=social&utm_campaign=2026 – HK – Atmos Vertical \n#Atmos #LifeFitness \n  \nChannel: LFAPAC\, LFHK \nPlatform: Instagram \nPost Content: \nEssential cardio. Designed to fit. \nOur all new Atmos cardio series was built for hotel fitness centers and apartment gyms where every square foot matters. \nThe Atmos Treadmill delivers:\n✔ Smooth\, proven Life Fitness performance\n✔ Compact footprint design\n✔ Simplified service access\n✔ A polished\, brand-aligned aesthetic \nExplore the full Atmos line:🔗 https://www.lifefitness.com/zh-hk/catalog/cardio/treadmills/atmos-treadmill?utm_source=instagram&utm_medium=social&utm_campaign=2026 – HK – Atmos Vertical \n#Atmos #LifeFitness \n\nhttps://lfapportal.lifefitness.com.hk/wp-content/uploads/2026/04/LF_MA_Atmos_Video_Treadmill_Portrait_1080x1920.mp4\n  \nDownload Video \n 
URL:https://lfapportal.lifefitness.com.hk/event/atmos-treadmill/
CATEGORIES:Digital Campaign Calendar
ATTACH;FMTTYPE=image/png:https://lfapportal.lifefitness.com.hk/wp-content/uploads/2026/04/Social-Media_Atmos-Treadmill_cover.png
END:VEVENT
BEGIN:VEVENT
DTSTART;TZID=Asia/Hong_Kong:20260423T110000
DTEND;TZID=Asia/Hong_Kong:20260423T110000
DTSTAMP:20260421T143305
CREATED:20260420T071218Z
LAST-MODIFIED:20260420T071218Z
UID:31022-1776942000-1776942000@lfapportal.lifefitness.com.hk
SUMMARY:Daniel train with NX Rack
DESCRIPTION:Channel: HSHK \nPlatform: Facebook \nPost Content: \n💥 Hammer Strength HD Athletic NX Half Combo Rack = one compact setup for real strength.\n✅ Squats • ✅ Deadlifts • ✅ Chest Presses \nPerfect for cyclists—strengthening legs\, back\, and glutes to support better sprinting and maximum power over a 5-minute effort.\nAs Daniel Yip (Champion\, 2025 Asian Continental Championships — Individual Road Race for Juniors) said: strength work matters. \nLink: https://www.lifefitness.com/zh-hk/catalog/strength-training/racks-rigs/hd-athletic-nx-half-rack?utm_source=facebook&utm_medium=social&utm_campaign=2025-hs-daniel \n  \nChannel: HSHK \nPlatform: Instagram \nPost Content: \n💥 Hammer Strength HD Athletic NX Half Combo Rack = one compact setup for real strength.\n✅ Squats • ✅ Deadlifts • ✅ Chest Presses \nPerfect for cyclists—strengthening legs\, back\, and glutes to support better sprinting and maximum power over a 5-minute effort.\nAs Daniel Yip (Champion\, 2025 Asian Continental Championships — Individual Road Race for Juniors) said: strength work matters. \nLink: https://www.lifefitness.com/zh-hk/catalog/strength-training/racks-rigs/hd-athletic-nx-half-rack?utm_source=facebook&utm_medium=social&utm_campaign=2025-hs-daniel \n  \n \n  \nDownload Image
URL:https://lfapportal.lifefitness.com.hk/event/daniel-train-with-nx-rack/
CATEGORIES:Digital Campaign Calendar
ATTACH;FMTTYPE=image/jpeg:https://lfapportal.lifefitness.com.hk/wp-content/uploads/2026/04/DSC03142-scaled.jpg
END:VEVENT
END:VCALENDAR